BEGIN:VCALENDAR
VERSION:2.0
PRODID:-//Lighthouse Worship Center - ECPv6.15.20//NONSGML v1.0//EN
CALSCALE:GREGORIAN
METHOD:PUBLISH
X-WR-CALNAME:Lighthouse Worship Center
X-ORIGINAL-URL:https://www.servingjesus.org
X-WR-CALDESC:Events for Lighthouse Worship Center
REFRESH-INTERVAL;VALUE=DURATION:PT1H
X-Robots-Tag:noindex
X-PUBLISHED-TTL:PT1H
BEGIN:VTIMEZONE
TZID:UTC
BEGIN:STANDARD
TZOFFSETFROM:+0000
TZOFFSETTO:+0000
TZNAME:UTC
DTSTART:20230101T000000
END:STANDARD
END:VTIMEZONE
BEGIN:VEVENT
DTSTART;TZID=UTC:20240430T080000
DTEND;TZID=UTC:20240430T090000
DTSTAMP:20260421T115037
CREATED:20240407T001751Z
LAST-MODIFIED:20240410T113855Z
UID:10000022-1714464000-1714467600@www.servingjesus.org
SUMMARY:Morning Bible Study - Sign Up Today
DESCRIPTION:Join us for morning Bible study at the vineyard. Call (530) 355-4938 and sign up registration is required in advance. Meet in the glass event center.
URL:https://www.servingjesus.org/event/bible-study-2/
LOCATION:CA
ATTACH;FMTTYPE=image/gif:https://www.servingjesus.org/wp-content/uploads/2024/02/prayer_15.gif
END:VEVENT
BEGIN:VEVENT
DTSTART;TZID=UTC:20240430T080000
DTEND;TZID=UTC:20240430T210000
DTSTAMP:20260421T115037
CREATED:20240409T123602Z
LAST-MODIFIED:20240409T125726Z
UID:10000640-1714464000-1714510800@www.servingjesus.org
SUMMARY:Morning Bible Study - Sign Up Today
DESCRIPTION:Join us for morning Bible study at the vineyard. Call (530) 355-4938 and sign up registration is required in advance. Meet in the main house.
URL:https://www.servingjesus.org/event/morning-bible-study-3/2024-04-30/
LOCATION:CA
ATTACH;FMTTYPE=image/jpeg:https://www.servingjesus.org/wp-content/uploads/2024/03/IMG_9837.jpg
END:VEVENT
END:VCALENDAR