BEGIN:VCALENDAR
VERSION:2.0
PRODID:-//Lighthouse Worship Center - ECPv6.15.20//NONSGML v1.0//EN
CALSCALE:GREGORIAN
METHOD:PUBLISH
X-ORIGINAL-URL:https://www.servingjesus.org
X-WR-CALDESC:Events for Lighthouse Worship Center
REFRESH-INTERVAL;VALUE=DURATION:PT1H
X-Robots-Tag:noindex
X-PUBLISHED-TTL:PT1H
BEGIN:VTIMEZONE
TZID:UTC
BEGIN:STANDARD
TZOFFSETFROM:+0000
TZOFFSETTO:+0000
TZNAME:UTC
DTSTART:20230101T000000
END:STANDARD
END:VTIMEZONE
BEGIN:VEVENT
DTSTART;TZID=UTC:20240315T083000
DTEND;TZID=UTC:20240315T103000
DTSTAMP:20260424T132043
CREATED:20240405T054032Z
LAST-MODIFIED:20240405T054032Z
UID:10000008-1710491400-1710498600@www.servingjesus.org
SUMMARY:Worship and Prayer Walk in the Vineyard
DESCRIPTION:Take a stroll through the vineyard with your family\, or gather with some of your friends\, and pray for your families\, friends\, loved ones\, city\, and community as you walk! Feel free wear head phones and worship or to pray silently if that is most comfortable for you. The idea is to enjoy the peach in the of the vineyards while praying as a group at the same time. Pray for God’s blessing of health\, provision\, safety\, and salvation\, and for anything else you would like! Take your kids along\, and have them pray too! Whether you walk worship and pray for 15 minutes\, or stay out for an hour\, we know God will work through our prayers!
URL:https://www.servingjesus.org/event/worship-and-prayer-walk-in-the-vineyard-2/
LOCATION:Upper Vineyard\, 28740 Inwood\, Palo Cedro\, CA\, 96073\, United States
CATEGORIES:Worship & Prayer
ATTACH;FMTTYPE=image/jpeg:https://www.servingjesus.org/wp-content/uploads/2024/03/Anselmo-Vineyard-9-15-sm-79.jpg
END:VEVENT
BEGIN:VEVENT
DTSTART;TZID=UTC:20240301T083000
DTEND;TZID=UTC:20240301T093000
DTSTAMP:20260424T132043
CREATED:20240405T053706Z
LAST-MODIFIED:20240405T053819Z
UID:10000007-1709281800-1709285400@www.servingjesus.org
SUMMARY:Worship and Prayer Walk in the Vineyard
DESCRIPTION:Take a stroll through the vineyard with your family\, or gather with some of your friends\, and pray for your families\, friends\, loved ones\, city\, and community as you walk! Feel free wear head phones and worship or to pray silently if that is most comfortable for you. The idea is to enjoy the peach in the of the vineyards while praying as a group at the same time. Pray for God’s blessing of health\, provision\, safety\, and salvation\, and for anything else you would like! Take your kids along\, and have them pray too! Whether you walk worship and pray for 15 minutes\, or stay out for an hour\, we know God will work through our prayers!
URL:https://www.servingjesus.org/event/worship-and-prayer-walk-in-the-vineyard/
LOCATION:Upper Vineyard\, 28740 Inwood\, Palo Cedro\, CA\, 96073\, United States
CATEGORIES:Prayer Walk,Worship & Prayer
ATTACH;FMTTYPE=image/jpeg:https://www.servingjesus.org/wp-content/uploads/2024/03/Anselmo-Vineyard-9-15-sm-100.jpg
END:VEVENT
END:VCALENDAR