BEGIN:VCALENDAR
VERSION:2.0
PRODID:-//Lighthouse Worship Center - ECPv6.15.20//NONSGML v1.0//EN
CALSCALE:GREGORIAN
METHOD:PUBLISH
X-WR-CALNAME:Lighthouse Worship Center
X-ORIGINAL-URL:https://www.servingjesus.org
X-WR-CALDESC:Events for Lighthouse Worship Center
REFRESH-INTERVAL;VALUE=DURATION:PT1H
X-Robots-Tag:noindex
X-PUBLISHED-TTL:PT1H
BEGIN:VTIMEZONE
TZID:UTC
BEGIN:STANDARD
TZOFFSETFROM:+0000
TZOFFSETTO:+0000
TZNAME:UTC
DTSTART:20210101T000000
END:STANDARD
END:VTIMEZONE
BEGIN:VEVENT
DTSTART;TZID=UTC:20230330T070000
DTEND;TZID=UTC:20230330T073000
DTSTAMP:20260422T043814
CREATED:20240409T220403Z
LAST-MODIFIED:20240409T220621Z
UID:10000977-1680159600-1680161400@www.servingjesus.org
SUMMARY:Communion with Sacraments
DESCRIPTION:Join us for Communion on the steps of the Chapel over looking the Vineyard. Meet in the parking lot at 7 am and we will go up together.
URL:https://www.servingjesus.org/event/communion-with-sacrament/2023-03-30/
LOCATION:Chapel\, 28740 Inwood\, Palo Cedro\, CA\, 96073\, United States
ATTACH;FMTTYPE=image/gif:https://www.servingjesus.org/wp-content/uploads/2024/04/chapel_steps_angel-1.gif
END:VEVENT
BEGIN:VEVENT
DTSTART;TZID=UTC:20230323T070000
DTEND;TZID=UTC:20230323T073000
DTSTAMP:20260422T043814
CREATED:20240409T220403Z
LAST-MODIFIED:20240409T220621Z
UID:10000976-1679554800-1679556600@www.servingjesus.org
SUMMARY:Communion with Sacraments
DESCRIPTION:Join us for Communion on the steps of the Chapel over looking the Vineyard. Meet in the parking lot at 7 am and we will go up together.
URL:https://www.servingjesus.org/event/communion-with-sacrament/2023-03-23/
LOCATION:Chapel\, 28740 Inwood\, Palo Cedro\, CA\, 96073\, United States
ATTACH;FMTTYPE=image/gif:https://www.servingjesus.org/wp-content/uploads/2024/04/chapel_steps_angel-1.gif
END:VEVENT
BEGIN:VEVENT
DTSTART;TZID=UTC:20230316T070000
DTEND;TZID=UTC:20230316T073000
DTSTAMP:20260422T043814
CREATED:20240409T220403Z
LAST-MODIFIED:20240409T220621Z
UID:10000975-1678950000-1678951800@www.servingjesus.org
SUMMARY:Communion with Sacraments
DESCRIPTION:Join us for Communion on the steps of the Chapel over looking the Vineyard. Meet in the parking lot at 7 am and we will go up together.
URL:https://www.servingjesus.org/event/communion-with-sacrament/2023-03-16/
LOCATION:Chapel\, 28740 Inwood\, Palo Cedro\, CA\, 96073\, United States
ATTACH;FMTTYPE=image/gif:https://www.servingjesus.org/wp-content/uploads/2024/04/chapel_steps_angel-1.gif
END:VEVENT
BEGIN:VEVENT
DTSTART;TZID=UTC:20230309T070000
DTEND;TZID=UTC:20230309T073000
DTSTAMP:20260422T043814
CREATED:20240409T220403Z
LAST-MODIFIED:20240409T220621Z
UID:10000974-1678345200-1678347000@www.servingjesus.org
SUMMARY:Communion with Sacraments
DESCRIPTION:Join us for Communion on the steps of the Chapel over looking the Vineyard. Meet in the parking lot at 7 am and we will go up together.
URL:https://www.servingjesus.org/event/communion-with-sacrament/2023-03-09/
LOCATION:Chapel\, 28740 Inwood\, Palo Cedro\, CA\, 96073\, United States
ATTACH;FMTTYPE=image/gif:https://www.servingjesus.org/wp-content/uploads/2024/04/chapel_steps_angel-1.gif
END:VEVENT
BEGIN:VEVENT
DTSTART;TZID=UTC:20230302T070000
DTEND;TZID=UTC:20230302T073000
DTSTAMP:20260422T043814
CREATED:20240409T220403Z
LAST-MODIFIED:20240409T220621Z
UID:10000973-1677740400-1677742200@www.servingjesus.org
SUMMARY:Communion with Sacraments
DESCRIPTION:Join us for Communion on the steps of the Chapel over looking the Vineyard. Meet in the parking lot at 7 am and we will go up together.
URL:https://www.servingjesus.org/event/communion-with-sacrament/2023-03-02/
LOCATION:Chapel\, 28740 Inwood\, Palo Cedro\, CA\, 96073\, United States
ATTACH;FMTTYPE=image/gif:https://www.servingjesus.org/wp-content/uploads/2024/04/chapel_steps_angel-1.gif
END:VEVENT
BEGIN:VEVENT
DTSTART;TZID=UTC:20230223T070000
DTEND;TZID=UTC:20230223T073000
DTSTAMP:20260422T043814
CREATED:20240409T220403Z
LAST-MODIFIED:20240409T220621Z
UID:10000972-1677135600-1677137400@www.servingjesus.org
SUMMARY:Communion with Sacraments
DESCRIPTION:Join us for Communion on the steps of the Chapel over looking the Vineyard. Meet in the parking lot at 7 am and we will go up together.
URL:https://www.servingjesus.org/event/communion-with-sacrament/2023-02-23/
LOCATION:Chapel\, 28740 Inwood\, Palo Cedro\, CA\, 96073\, United States
ATTACH;FMTTYPE=image/gif:https://www.servingjesus.org/wp-content/uploads/2024/04/chapel_steps_angel-1.gif
END:VEVENT
BEGIN:VEVENT
DTSTART;TZID=UTC:20230216T070000
DTEND;TZID=UTC:20230216T073000
DTSTAMP:20260422T043814
CREATED:20240409T220403Z
LAST-MODIFIED:20240409T220621Z
UID:10000971-1676530800-1676532600@www.servingjesus.org
SUMMARY:Communion with Sacraments
DESCRIPTION:Join us for Communion on the steps of the Chapel over looking the Vineyard. Meet in the parking lot at 7 am and we will go up together.
URL:https://www.servingjesus.org/event/communion-with-sacrament/2023-02-16/
LOCATION:Chapel\, 28740 Inwood\, Palo Cedro\, CA\, 96073\, United States
ATTACH;FMTTYPE=image/gif:https://www.servingjesus.org/wp-content/uploads/2024/04/chapel_steps_angel-1.gif
END:VEVENT
BEGIN:VEVENT
DTSTART;TZID=UTC:20230209T070000
DTEND;TZID=UTC:20230209T073000
DTSTAMP:20260422T043814
CREATED:20240409T220403Z
LAST-MODIFIED:20240409T220621Z
UID:10000970-1675926000-1675927800@www.servingjesus.org
SUMMARY:Communion with Sacraments
DESCRIPTION:Join us for Communion on the steps of the Chapel over looking the Vineyard. Meet in the parking lot at 7 am and we will go up together.
URL:https://www.servingjesus.org/event/communion-with-sacrament/2023-02-09/
LOCATION:Chapel\, 28740 Inwood\, Palo Cedro\, CA\, 96073\, United States
ATTACH;FMTTYPE=image/gif:https://www.servingjesus.org/wp-content/uploads/2024/04/chapel_steps_angel-1.gif
END:VEVENT
BEGIN:VEVENT
DTSTART;TZID=UTC:20230202T070000
DTEND;TZID=UTC:20230202T073000
DTSTAMP:20260422T043814
CREATED:20240409T220403Z
LAST-MODIFIED:20240409T220621Z
UID:10000969-1675321200-1675323000@www.servingjesus.org
SUMMARY:Communion with Sacraments
DESCRIPTION:Join us for Communion on the steps of the Chapel over looking the Vineyard. Meet in the parking lot at 7 am and we will go up together.
URL:https://www.servingjesus.org/event/communion-with-sacrament/2023-02-02/
LOCATION:Chapel\, 28740 Inwood\, Palo Cedro\, CA\, 96073\, United States
ATTACH;FMTTYPE=image/gif:https://www.servingjesus.org/wp-content/uploads/2024/04/chapel_steps_angel-1.gif
END:VEVENT
BEGIN:VEVENT
DTSTART;TZID=UTC:20230126T070000
DTEND;TZID=UTC:20230126T073000
DTSTAMP:20260422T043814
CREATED:20240409T220403Z
LAST-MODIFIED:20240409T220621Z
UID:10000968-1674716400-1674718200@www.servingjesus.org
SUMMARY:Communion with Sacraments
DESCRIPTION:Join us for Communion on the steps of the Chapel over looking the Vineyard. Meet in the parking lot at 7 am and we will go up together.
URL:https://www.servingjesus.org/event/communion-with-sacrament/2023-01-26/
LOCATION:Chapel\, 28740 Inwood\, Palo Cedro\, CA\, 96073\, United States
ATTACH;FMTTYPE=image/gif:https://www.servingjesus.org/wp-content/uploads/2024/04/chapel_steps_angel-1.gif
END:VEVENT
BEGIN:VEVENT
DTSTART;TZID=UTC:20230119T070000
DTEND;TZID=UTC:20230119T073000
DTSTAMP:20260422T043814
CREATED:20240409T220403Z
LAST-MODIFIED:20240409T220621Z
UID:10000967-1674111600-1674113400@www.servingjesus.org
SUMMARY:Communion with Sacraments
DESCRIPTION:Join us for Communion on the steps of the Chapel over looking the Vineyard. Meet in the parking lot at 7 am and we will go up together.
URL:https://www.servingjesus.org/event/communion-with-sacrament/2023-01-19/
LOCATION:Chapel\, 28740 Inwood\, Palo Cedro\, CA\, 96073\, United States
ATTACH;FMTTYPE=image/gif:https://www.servingjesus.org/wp-content/uploads/2024/04/chapel_steps_angel-1.gif
END:VEVENT
BEGIN:VEVENT
DTSTART;TZID=UTC:20230112T070000
DTEND;TZID=UTC:20230112T073000
DTSTAMP:20260422T043814
CREATED:20240409T220403Z
LAST-MODIFIED:20240409T220621Z
UID:10000966-1673506800-1673508600@www.servingjesus.org
SUMMARY:Communion with Sacraments
DESCRIPTION:Join us for Communion on the steps of the Chapel over looking the Vineyard. Meet in the parking lot at 7 am and we will go up together.
URL:https://www.servingjesus.org/event/communion-with-sacrament/2023-01-12/
LOCATION:Chapel\, 28740 Inwood\, Palo Cedro\, CA\, 96073\, United States
ATTACH;FMTTYPE=image/gif:https://www.servingjesus.org/wp-content/uploads/2024/04/chapel_steps_angel-1.gif
END:VEVENT
BEGIN:VEVENT
DTSTART;TZID=UTC:20230105T070000
DTEND;TZID=UTC:20230105T073000
DTSTAMP:20260422T043814
CREATED:20240409T220403Z
LAST-MODIFIED:20240409T220621Z
UID:10000965-1672902000-1672903800@www.servingjesus.org
SUMMARY:Communion with Sacraments
DESCRIPTION:Join us for Communion on the steps of the Chapel over looking the Vineyard. Meet in the parking lot at 7 am and we will go up together.
URL:https://www.servingjesus.org/event/communion-with-sacrament/2023-01-05/
LOCATION:Chapel\, 28740 Inwood\, Palo Cedro\, CA\, 96073\, United States
ATTACH;FMTTYPE=image/gif:https://www.servingjesus.org/wp-content/uploads/2024/04/chapel_steps_angel-1.gif
END:VEVENT
BEGIN:VEVENT
DTSTART;TZID=UTC:20221229T070000
DTEND;TZID=UTC:20221229T073000
DTSTAMP:20260422T043814
CREATED:20240409T220403Z
LAST-MODIFIED:20240409T220621Z
UID:10000964-1672297200-1672299000@www.servingjesus.org
SUMMARY:Communion with Sacraments
DESCRIPTION:Join us for Communion on the steps of the Chapel over looking the Vineyard. Meet in the parking lot at 7 am and we will go up together.
URL:https://www.servingjesus.org/event/communion-with-sacrament/2022-12-29/
LOCATION:Chapel\, 28740 Inwood\, Palo Cedro\, CA\, 96073\, United States
ATTACH;FMTTYPE=image/gif:https://www.servingjesus.org/wp-content/uploads/2024/04/chapel_steps_angel-1.gif
END:VEVENT
BEGIN:VEVENT
DTSTART;TZID=UTC:20221222T070000
DTEND;TZID=UTC:20221222T073000
DTSTAMP:20260422T043814
CREATED:20240409T220403Z
LAST-MODIFIED:20240409T220621Z
UID:10000963-1671692400-1671694200@www.servingjesus.org
SUMMARY:Communion with Sacraments
DESCRIPTION:Join us for Communion on the steps of the Chapel over looking the Vineyard. Meet in the parking lot at 7 am and we will go up together.
URL:https://www.servingjesus.org/event/communion-with-sacrament/2022-12-22/
LOCATION:Chapel\, 28740 Inwood\, Palo Cedro\, CA\, 96073\, United States
ATTACH;FMTTYPE=image/gif:https://www.servingjesus.org/wp-content/uploads/2024/04/chapel_steps_angel-1.gif
END:VEVENT
BEGIN:VEVENT
DTSTART;TZID=UTC:20221215T070000
DTEND;TZID=UTC:20221215T073000
DTSTAMP:20260422T043814
CREATED:20240409T220403Z
LAST-MODIFIED:20240409T220621Z
UID:10000962-1671087600-1671089400@www.servingjesus.org
SUMMARY:Communion with Sacraments
DESCRIPTION:Join us for Communion on the steps of the Chapel over looking the Vineyard. Meet in the parking lot at 7 am and we will go up together.
URL:https://www.servingjesus.org/event/communion-with-sacrament/2022-12-15/
LOCATION:Chapel\, 28740 Inwood\, Palo Cedro\, CA\, 96073\, United States
ATTACH;FMTTYPE=image/gif:https://www.servingjesus.org/wp-content/uploads/2024/04/chapel_steps_angel-1.gif
END:VEVENT
BEGIN:VEVENT
DTSTART;TZID=UTC:20221208T070000
DTEND;TZID=UTC:20221208T073000
DTSTAMP:20260422T043814
CREATED:20240409T220403Z
LAST-MODIFIED:20240409T220621Z
UID:10000961-1670482800-1670484600@www.servingjesus.org
SUMMARY:Communion with Sacraments
DESCRIPTION:Join us for Communion on the steps of the Chapel over looking the Vineyard. Meet in the parking lot at 7 am and we will go up together.
URL:https://www.servingjesus.org/event/communion-with-sacrament/2022-12-08/
LOCATION:Chapel\, 28740 Inwood\, Palo Cedro\, CA\, 96073\, United States
ATTACH;FMTTYPE=image/gif:https://www.servingjesus.org/wp-content/uploads/2024/04/chapel_steps_angel-1.gif
END:VEVENT
BEGIN:VEVENT
DTSTART;TZID=UTC:20221201T070000
DTEND;TZID=UTC:20221201T073000
DTSTAMP:20260422T043814
CREATED:20240409T220403Z
LAST-MODIFIED:20240409T220621Z
UID:10000960-1669878000-1669879800@www.servingjesus.org
SUMMARY:Communion with Sacraments
DESCRIPTION:Join us for Communion on the steps of the Chapel over looking the Vineyard. Meet in the parking lot at 7 am and we will go up together.
URL:https://www.servingjesus.org/event/communion-with-sacrament/2022-12-01/
LOCATION:Chapel\, 28740 Inwood\, Palo Cedro\, CA\, 96073\, United States
ATTACH;FMTTYPE=image/gif:https://www.servingjesus.org/wp-content/uploads/2024/04/chapel_steps_angel-1.gif
END:VEVENT
BEGIN:VEVENT
DTSTART;TZID=UTC:20221124T070000
DTEND;TZID=UTC:20221124T073000
DTSTAMP:20260422T043814
CREATED:20240409T220403Z
LAST-MODIFIED:20240409T220621Z
UID:10000959-1669273200-1669275000@www.servingjesus.org
SUMMARY:Communion with Sacraments
DESCRIPTION:Join us for Communion on the steps of the Chapel over looking the Vineyard. Meet in the parking lot at 7 am and we will go up together.
URL:https://www.servingjesus.org/event/communion-with-sacrament/2022-11-24/
LOCATION:Chapel\, 28740 Inwood\, Palo Cedro\, CA\, 96073\, United States
ATTACH;FMTTYPE=image/gif:https://www.servingjesus.org/wp-content/uploads/2024/04/chapel_steps_angel-1.gif
END:VEVENT
BEGIN:VEVENT
DTSTART;TZID=UTC:20221117T070000
DTEND;TZID=UTC:20221117T073000
DTSTAMP:20260422T043814
CREATED:20240409T220403Z
LAST-MODIFIED:20240409T220621Z
UID:10000958-1668668400-1668670200@www.servingjesus.org
SUMMARY:Communion with Sacraments
DESCRIPTION:Join us for Communion on the steps of the Chapel over looking the Vineyard. Meet in the parking lot at 7 am and we will go up together.
URL:https://www.servingjesus.org/event/communion-with-sacrament/2022-11-17/
LOCATION:Chapel\, 28740 Inwood\, Palo Cedro\, CA\, 96073\, United States
ATTACH;FMTTYPE=image/gif:https://www.servingjesus.org/wp-content/uploads/2024/04/chapel_steps_angel-1.gif
END:VEVENT
BEGIN:VEVENT
DTSTART;TZID=UTC:20221110T070000
DTEND;TZID=UTC:20221110T073000
DTSTAMP:20260422T043814
CREATED:20240409T220403Z
LAST-MODIFIED:20240409T220621Z
UID:10000957-1668063600-1668065400@www.servingjesus.org
SUMMARY:Communion with Sacraments
DESCRIPTION:Join us for Communion on the steps of the Chapel over looking the Vineyard. Meet in the parking lot at 7 am and we will go up together.
URL:https://www.servingjesus.org/event/communion-with-sacrament/2022-11-10/
LOCATION:Chapel\, 28740 Inwood\, Palo Cedro\, CA\, 96073\, United States
ATTACH;FMTTYPE=image/gif:https://www.servingjesus.org/wp-content/uploads/2024/04/chapel_steps_angel-1.gif
END:VEVENT
BEGIN:VEVENT
DTSTART;TZID=UTC:20221103T070000
DTEND;TZID=UTC:20221103T073000
DTSTAMP:20260422T043814
CREATED:20240409T220403Z
LAST-MODIFIED:20240409T220621Z
UID:10000956-1667458800-1667460600@www.servingjesus.org
SUMMARY:Communion with Sacraments
DESCRIPTION:Join us for Communion on the steps of the Chapel over looking the Vineyard. Meet in the parking lot at 7 am and we will go up together.
URL:https://www.servingjesus.org/event/communion-with-sacrament/2022-11-03/
LOCATION:Chapel\, 28740 Inwood\, Palo Cedro\, CA\, 96073\, United States
ATTACH;FMTTYPE=image/gif:https://www.servingjesus.org/wp-content/uploads/2024/04/chapel_steps_angel-1.gif
END:VEVENT
BEGIN:VEVENT
DTSTART;TZID=UTC:20221027T070000
DTEND;TZID=UTC:20221027T073000
DTSTAMP:20260422T043814
CREATED:20240409T220403Z
LAST-MODIFIED:20240409T220621Z
UID:10000955-1666854000-1666855800@www.servingjesus.org
SUMMARY:Communion with Sacraments
DESCRIPTION:Join us for Communion on the steps of the Chapel over looking the Vineyard. Meet in the parking lot at 7 am and we will go up together.
URL:https://www.servingjesus.org/event/communion-with-sacrament/2022-10-27/
LOCATION:Chapel\, 28740 Inwood\, Palo Cedro\, CA\, 96073\, United States
ATTACH;FMTTYPE=image/gif:https://www.servingjesus.org/wp-content/uploads/2024/04/chapel_steps_angel-1.gif
END:VEVENT
BEGIN:VEVENT
DTSTART;TZID=UTC:20221020T070000
DTEND;TZID=UTC:20221020T073000
DTSTAMP:20260422T043814
CREATED:20240409T220403Z
LAST-MODIFIED:20240409T220621Z
UID:10000954-1666249200-1666251000@www.servingjesus.org
SUMMARY:Communion with Sacraments
DESCRIPTION:Join us for Communion on the steps of the Chapel over looking the Vineyard. Meet in the parking lot at 7 am and we will go up together.
URL:https://www.servingjesus.org/event/communion-with-sacrament/2022-10-20/
LOCATION:Chapel\, 28740 Inwood\, Palo Cedro\, CA\, 96073\, United States
ATTACH;FMTTYPE=image/gif:https://www.servingjesus.org/wp-content/uploads/2024/04/chapel_steps_angel-1.gif
END:VEVENT
BEGIN:VEVENT
DTSTART;TZID=UTC:20221013T070000
DTEND;TZID=UTC:20221013T073000
DTSTAMP:20260422T043814
CREATED:20240409T220403Z
LAST-MODIFIED:20240409T220621Z
UID:10000953-1665644400-1665646200@www.servingjesus.org
SUMMARY:Communion with Sacraments
DESCRIPTION:Join us for Communion on the steps of the Chapel over looking the Vineyard. Meet in the parking lot at 7 am and we will go up together.
URL:https://www.servingjesus.org/event/communion-with-sacrament/2022-10-13/
LOCATION:Chapel\, 28740 Inwood\, Palo Cedro\, CA\, 96073\, United States
ATTACH;FMTTYPE=image/gif:https://www.servingjesus.org/wp-content/uploads/2024/04/chapel_steps_angel-1.gif
END:VEVENT
BEGIN:VEVENT
DTSTART;TZID=UTC:20221006T070000
DTEND;TZID=UTC:20221006T073000
DTSTAMP:20260422T043814
CREATED:20240409T220403Z
LAST-MODIFIED:20240409T220621Z
UID:10000952-1665039600-1665041400@www.servingjesus.org
SUMMARY:Communion with Sacraments
DESCRIPTION:Join us for Communion on the steps of the Chapel over looking the Vineyard. Meet in the parking lot at 7 am and we will go up together.
URL:https://www.servingjesus.org/event/communion-with-sacrament/2022-10-06/
LOCATION:Chapel\, 28740 Inwood\, Palo Cedro\, CA\, 96073\, United States
ATTACH;FMTTYPE=image/gif:https://www.servingjesus.org/wp-content/uploads/2024/04/chapel_steps_angel-1.gif
END:VEVENT
BEGIN:VEVENT
DTSTART;TZID=UTC:20220929T070000
DTEND;TZID=UTC:20220929T073000
DTSTAMP:20260422T043814
CREATED:20240409T220403Z
LAST-MODIFIED:20240409T220621Z
UID:10000951-1664434800-1664436600@www.servingjesus.org
SUMMARY:Communion with Sacraments
DESCRIPTION:Join us for Communion on the steps of the Chapel over looking the Vineyard. Meet in the parking lot at 7 am and we will go up together.
URL:https://www.servingjesus.org/event/communion-with-sacrament/2022-09-29/
LOCATION:Chapel\, 28740 Inwood\, Palo Cedro\, CA\, 96073\, United States
ATTACH;FMTTYPE=image/gif:https://www.servingjesus.org/wp-content/uploads/2024/04/chapel_steps_angel-1.gif
END:VEVENT
BEGIN:VEVENT
DTSTART;TZID=UTC:20220922T070000
DTEND;TZID=UTC:20220922T073000
DTSTAMP:20260422T043814
CREATED:20240409T220403Z
LAST-MODIFIED:20240409T220621Z
UID:10000950-1663830000-1663831800@www.servingjesus.org
SUMMARY:Communion with Sacraments
DESCRIPTION:Join us for Communion on the steps of the Chapel over looking the Vineyard. Meet in the parking lot at 7 am and we will go up together.
URL:https://www.servingjesus.org/event/communion-with-sacrament/2022-09-22/
LOCATION:Chapel\, 28740 Inwood\, Palo Cedro\, CA\, 96073\, United States
ATTACH;FMTTYPE=image/gif:https://www.servingjesus.org/wp-content/uploads/2024/04/chapel_steps_angel-1.gif
END:VEVENT
BEGIN:VEVENT
DTSTART;TZID=UTC:20220915T070000
DTEND;TZID=UTC:20220915T073000
DTSTAMP:20260422T043814
CREATED:20240409T220403Z
LAST-MODIFIED:20240409T220621Z
UID:10000949-1663225200-1663227000@www.servingjesus.org
SUMMARY:Communion with Sacraments
DESCRIPTION:Join us for Communion on the steps of the Chapel over looking the Vineyard. Meet in the parking lot at 7 am and we will go up together.
URL:https://www.servingjesus.org/event/communion-with-sacrament/2022-09-15/
LOCATION:Chapel\, 28740 Inwood\, Palo Cedro\, CA\, 96073\, United States
ATTACH;FMTTYPE=image/gif:https://www.servingjesus.org/wp-content/uploads/2024/04/chapel_steps_angel-1.gif
END:VEVENT
BEGIN:VEVENT
DTSTART;TZID=UTC:20220908T070000
DTEND;TZID=UTC:20220908T073000
DTSTAMP:20260422T043814
CREATED:20240409T220403Z
LAST-MODIFIED:20240409T220621Z
UID:10000948-1662620400-1662622200@www.servingjesus.org
SUMMARY:Communion with Sacraments
DESCRIPTION:Join us for Communion on the steps of the Chapel over looking the Vineyard. Meet in the parking lot at 7 am and we will go up together.
URL:https://www.servingjesus.org/event/communion-with-sacrament/2022-09-08/
LOCATION:Chapel\, 28740 Inwood\, Palo Cedro\, CA\, 96073\, United States
ATTACH;FMTTYPE=image/gif:https://www.servingjesus.org/wp-content/uploads/2024/04/chapel_steps_angel-1.gif
END:VEVENT
END:VCALENDAR