BEGIN:VCALENDAR
VERSION:2.0
PRODID:-//Lighthouse Worship Center - ECPv6.15.20//NONSGML v1.0//EN
CALSCALE:GREGORIAN
METHOD:PUBLISH
X-ORIGINAL-URL:https://www.servingjesus.org
X-WR-CALDESC:Events for Lighthouse Worship Center
REFRESH-INTERVAL;VALUE=DURATION:PT1H
X-Robots-Tag:noindex
X-PUBLISHED-TTL:PT1H
BEGIN:VTIMEZONE
TZID:UTC
BEGIN:STANDARD
TZOFFSETFROM:+0000
TZOFFSETTO:+0000
TZNAME:UTC
DTSTART:20210101T000000
END:STANDARD
END:VTIMEZONE
BEGIN:VEVENT
DTSTART;TZID=UTC:20220901T070000
DTEND;TZID=UTC:20220901T073000
DTSTAMP:20260422T174940
CREATED:20240409T220403Z
LAST-MODIFIED:20240409T220621Z
UID:10000947-1662015600-1662017400@www.servingjesus.org
SUMMARY:Communion with Sacraments
DESCRIPTION:Join us for Communion on the steps of the Chapel over looking the Vineyard. Meet in the parking lot at 7 am and we will go up together.
URL:https://www.servingjesus.org/event/communion-with-sacrament/2022-09-01/
LOCATION:Chapel\, 28740 Inwood\, Palo Cedro\, CA\, 96073\, United States
ATTACH;FMTTYPE=image/gif:https://www.servingjesus.org/wp-content/uploads/2024/04/chapel_steps_angel-1.gif
END:VEVENT
BEGIN:VEVENT
DTSTART;TZID=UTC:20220825T070000
DTEND;TZID=UTC:20220825T073000
DTSTAMP:20260422T174940
CREATED:20240409T220403Z
LAST-MODIFIED:20240409T220621Z
UID:10000946-1661410800-1661412600@www.servingjesus.org
SUMMARY:Communion with Sacraments
DESCRIPTION:Join us for Communion on the steps of the Chapel over looking the Vineyard. Meet in the parking lot at 7 am and we will go up together.
URL:https://www.servingjesus.org/event/communion-with-sacrament/2022-08-25/
LOCATION:Chapel\, 28740 Inwood\, Palo Cedro\, CA\, 96073\, United States
ATTACH;FMTTYPE=image/gif:https://www.servingjesus.org/wp-content/uploads/2024/04/chapel_steps_angel-1.gif
END:VEVENT
BEGIN:VEVENT
DTSTART;TZID=UTC:20220818T070000
DTEND;TZID=UTC:20220818T073000
DTSTAMP:20260422T174940
CREATED:20240409T220403Z
LAST-MODIFIED:20240409T220621Z
UID:10000945-1660806000-1660807800@www.servingjesus.org
SUMMARY:Communion with Sacraments
DESCRIPTION:Join us for Communion on the steps of the Chapel over looking the Vineyard. Meet in the parking lot at 7 am and we will go up together.
URL:https://www.servingjesus.org/event/communion-with-sacrament/2022-08-18/
LOCATION:Chapel\, 28740 Inwood\, Palo Cedro\, CA\, 96073\, United States
ATTACH;FMTTYPE=image/gif:https://www.servingjesus.org/wp-content/uploads/2024/04/chapel_steps_angel-1.gif
END:VEVENT
BEGIN:VEVENT
DTSTART;TZID=UTC:20220811T070000
DTEND;TZID=UTC:20220811T073000
DTSTAMP:20260422T174940
CREATED:20240409T220403Z
LAST-MODIFIED:20240409T220621Z
UID:10000944-1660201200-1660203000@www.servingjesus.org
SUMMARY:Communion with Sacraments
DESCRIPTION:Join us for Communion on the steps of the Chapel over looking the Vineyard. Meet in the parking lot at 7 am and we will go up together.
URL:https://www.servingjesus.org/event/communion-with-sacrament/2022-08-11/
LOCATION:Chapel\, 28740 Inwood\, Palo Cedro\, CA\, 96073\, United States
ATTACH;FMTTYPE=image/gif:https://www.servingjesus.org/wp-content/uploads/2024/04/chapel_steps_angel-1.gif
END:VEVENT
BEGIN:VEVENT
DTSTART;TZID=UTC:20220804T070000
DTEND;TZID=UTC:20220804T073000
DTSTAMP:20260422T174940
CREATED:20240409T220403Z
LAST-MODIFIED:20240409T220621Z
UID:10000943-1659596400-1659598200@www.servingjesus.org
SUMMARY:Communion with Sacraments
DESCRIPTION:Join us for Communion on the steps of the Chapel over looking the Vineyard. Meet in the parking lot at 7 am and we will go up together.
URL:https://www.servingjesus.org/event/communion-with-sacrament/2022-08-04/
LOCATION:Chapel\, 28740 Inwood\, Palo Cedro\, CA\, 96073\, United States
ATTACH;FMTTYPE=image/gif:https://www.servingjesus.org/wp-content/uploads/2024/04/chapel_steps_angel-1.gif
END:VEVENT
BEGIN:VEVENT
DTSTART;TZID=UTC:20220728T070000
DTEND;TZID=UTC:20220728T073000
DTSTAMP:20260422T174940
CREATED:20240409T220403Z
LAST-MODIFIED:20240409T220621Z
UID:10000942-1658991600-1658993400@www.servingjesus.org
SUMMARY:Communion with Sacraments
DESCRIPTION:Join us for Communion on the steps of the Chapel over looking the Vineyard. Meet in the parking lot at 7 am and we will go up together.
URL:https://www.servingjesus.org/event/communion-with-sacrament/2022-07-28/
LOCATION:Chapel\, 28740 Inwood\, Palo Cedro\, CA\, 96073\, United States
ATTACH;FMTTYPE=image/gif:https://www.servingjesus.org/wp-content/uploads/2024/04/chapel_steps_angel-1.gif
END:VEVENT
BEGIN:VEVENT
DTSTART;TZID=UTC:20220721T070000
DTEND;TZID=UTC:20220721T073000
DTSTAMP:20260422T174940
CREATED:20240409T220403Z
LAST-MODIFIED:20240409T220621Z
UID:10000941-1658386800-1658388600@www.servingjesus.org
SUMMARY:Communion with Sacraments
DESCRIPTION:Join us for Communion on the steps of the Chapel over looking the Vineyard. Meet in the parking lot at 7 am and we will go up together.
URL:https://www.servingjesus.org/event/communion-with-sacrament/2022-07-21/
LOCATION:Chapel\, 28740 Inwood\, Palo Cedro\, CA\, 96073\, United States
ATTACH;FMTTYPE=image/gif:https://www.servingjesus.org/wp-content/uploads/2024/04/chapel_steps_angel-1.gif
END:VEVENT
BEGIN:VEVENT
DTSTART;TZID=UTC:20220714T070000
DTEND;TZID=UTC:20220714T073000
DTSTAMP:20260422T174940
CREATED:20240409T220403Z
LAST-MODIFIED:20240409T220621Z
UID:10000940-1657782000-1657783800@www.servingjesus.org
SUMMARY:Communion with Sacraments
DESCRIPTION:Join us for Communion on the steps of the Chapel over looking the Vineyard. Meet in the parking lot at 7 am and we will go up together.
URL:https://www.servingjesus.org/event/communion-with-sacrament/2022-07-14/
LOCATION:Chapel\, 28740 Inwood\, Palo Cedro\, CA\, 96073\, United States
ATTACH;FMTTYPE=image/gif:https://www.servingjesus.org/wp-content/uploads/2024/04/chapel_steps_angel-1.gif
END:VEVENT
BEGIN:VEVENT
DTSTART;TZID=UTC:20220707T070000
DTEND;TZID=UTC:20220707T073000
DTSTAMP:20260422T174940
CREATED:20240409T220403Z
LAST-MODIFIED:20240409T220621Z
UID:10000939-1657177200-1657179000@www.servingjesus.org
SUMMARY:Communion with Sacraments
DESCRIPTION:Join us for Communion on the steps of the Chapel over looking the Vineyard. Meet in the parking lot at 7 am and we will go up together.
URL:https://www.servingjesus.org/event/communion-with-sacrament/2022-07-07/
LOCATION:Chapel\, 28740 Inwood\, Palo Cedro\, CA\, 96073\, United States
ATTACH;FMTTYPE=image/gif:https://www.servingjesus.org/wp-content/uploads/2024/04/chapel_steps_angel-1.gif
END:VEVENT
BEGIN:VEVENT
DTSTART;TZID=UTC:20220630T070000
DTEND;TZID=UTC:20220630T073000
DTSTAMP:20260422T174940
CREATED:20240409T220403Z
LAST-MODIFIED:20240409T220621Z
UID:10000938-1656572400-1656574200@www.servingjesus.org
SUMMARY:Communion with Sacraments
DESCRIPTION:Join us for Communion on the steps of the Chapel over looking the Vineyard. Meet in the parking lot at 7 am and we will go up together.
URL:https://www.servingjesus.org/event/communion-with-sacrament/2022-06-30/
LOCATION:Chapel\, 28740 Inwood\, Palo Cedro\, CA\, 96073\, United States
ATTACH;FMTTYPE=image/gif:https://www.servingjesus.org/wp-content/uploads/2024/04/chapel_steps_angel-1.gif
END:VEVENT
BEGIN:VEVENT
DTSTART;TZID=UTC:20220623T070000
DTEND;TZID=UTC:20220623T073000
DTSTAMP:20260422T174940
CREATED:20240409T220403Z
LAST-MODIFIED:20240409T220621Z
UID:10000937-1655967600-1655969400@www.servingjesus.org
SUMMARY:Communion with Sacraments
DESCRIPTION:Join us for Communion on the steps of the Chapel over looking the Vineyard. Meet in the parking lot at 7 am and we will go up together.
URL:https://www.servingjesus.org/event/communion-with-sacrament/2022-06-23/
LOCATION:Chapel\, 28740 Inwood\, Palo Cedro\, CA\, 96073\, United States
ATTACH;FMTTYPE=image/gif:https://www.servingjesus.org/wp-content/uploads/2024/04/chapel_steps_angel-1.gif
END:VEVENT
BEGIN:VEVENT
DTSTART;TZID=UTC:20220616T070000
DTEND;TZID=UTC:20220616T073000
DTSTAMP:20260422T174940
CREATED:20240409T220403Z
LAST-MODIFIED:20240409T220621Z
UID:10000936-1655362800-1655364600@www.servingjesus.org
SUMMARY:Communion with Sacraments
DESCRIPTION:Join us for Communion on the steps of the Chapel over looking the Vineyard. Meet in the parking lot at 7 am and we will go up together.
URL:https://www.servingjesus.org/event/communion-with-sacrament/2022-06-16/
LOCATION:Chapel\, 28740 Inwood\, Palo Cedro\, CA\, 96073\, United States
ATTACH;FMTTYPE=image/gif:https://www.servingjesus.org/wp-content/uploads/2024/04/chapel_steps_angel-1.gif
END:VEVENT
BEGIN:VEVENT
DTSTART;TZID=UTC:20220609T070000
DTEND;TZID=UTC:20220609T073000
DTSTAMP:20260422T174940
CREATED:20240409T220403Z
LAST-MODIFIED:20240409T220621Z
UID:10000935-1654758000-1654759800@www.servingjesus.org
SUMMARY:Communion with Sacraments
DESCRIPTION:Join us for Communion on the steps of the Chapel over looking the Vineyard. Meet in the parking lot at 7 am and we will go up together.
URL:https://www.servingjesus.org/event/communion-with-sacrament/2022-06-09/
LOCATION:Chapel\, 28740 Inwood\, Palo Cedro\, CA\, 96073\, United States
ATTACH;FMTTYPE=image/gif:https://www.servingjesus.org/wp-content/uploads/2024/04/chapel_steps_angel-1.gif
END:VEVENT
BEGIN:VEVENT
DTSTART;TZID=UTC:20220602T070000
DTEND;TZID=UTC:20220602T073000
DTSTAMP:20260422T174940
CREATED:20240409T220403Z
LAST-MODIFIED:20240409T220621Z
UID:10000934-1654153200-1654155000@www.servingjesus.org
SUMMARY:Communion with Sacraments
DESCRIPTION:Join us for Communion on the steps of the Chapel over looking the Vineyard. Meet in the parking lot at 7 am and we will go up together.
URL:https://www.servingjesus.org/event/communion-with-sacrament/2022-06-02/
LOCATION:Chapel\, 28740 Inwood\, Palo Cedro\, CA\, 96073\, United States
ATTACH;FMTTYPE=image/gif:https://www.servingjesus.org/wp-content/uploads/2024/04/chapel_steps_angel-1.gif
END:VEVENT
BEGIN:VEVENT
DTSTART;TZID=UTC:20220526T070000
DTEND;TZID=UTC:20220526T073000
DTSTAMP:20260422T174940
CREATED:20240409T220403Z
LAST-MODIFIED:20240409T220621Z
UID:10000933-1653548400-1653550200@www.servingjesus.org
SUMMARY:Communion with Sacraments
DESCRIPTION:Join us for Communion on the steps of the Chapel over looking the Vineyard. Meet in the parking lot at 7 am and we will go up together.
URL:https://www.servingjesus.org/event/communion-with-sacrament/2022-05-26/
LOCATION:Chapel\, 28740 Inwood\, Palo Cedro\, CA\, 96073\, United States
ATTACH;FMTTYPE=image/gif:https://www.servingjesus.org/wp-content/uploads/2024/04/chapel_steps_angel-1.gif
END:VEVENT
BEGIN:VEVENT
DTSTART;TZID=UTC:20220519T070000
DTEND;TZID=UTC:20220519T073000
DTSTAMP:20260422T174940
CREATED:20240409T220403Z
LAST-MODIFIED:20240409T220621Z
UID:10000932-1652943600-1652945400@www.servingjesus.org
SUMMARY:Communion with Sacraments
DESCRIPTION:Join us for Communion on the steps of the Chapel over looking the Vineyard. Meet in the parking lot at 7 am and we will go up together.
URL:https://www.servingjesus.org/event/communion-with-sacrament/2022-05-19/
LOCATION:Chapel\, 28740 Inwood\, Palo Cedro\, CA\, 96073\, United States
ATTACH;FMTTYPE=image/gif:https://www.servingjesus.org/wp-content/uploads/2024/04/chapel_steps_angel-1.gif
END:VEVENT
BEGIN:VEVENT
DTSTART;TZID=UTC:20220512T070000
DTEND;TZID=UTC:20220512T073000
DTSTAMP:20260422T174940
CREATED:20240409T220403Z
LAST-MODIFIED:20240409T220621Z
UID:10000931-1652338800-1652340600@www.servingjesus.org
SUMMARY:Communion with Sacraments
DESCRIPTION:Join us for Communion on the steps of the Chapel over looking the Vineyard. Meet in the parking lot at 7 am and we will go up together.
URL:https://www.servingjesus.org/event/communion-with-sacrament/2022-05-12/
LOCATION:Chapel\, 28740 Inwood\, Palo Cedro\, CA\, 96073\, United States
ATTACH;FMTTYPE=image/gif:https://www.servingjesus.org/wp-content/uploads/2024/04/chapel_steps_angel-1.gif
END:VEVENT
BEGIN:VEVENT
DTSTART;TZID=UTC:20220505T070000
DTEND;TZID=UTC:20220505T073000
DTSTAMP:20260422T174940
CREATED:20240409T220403Z
LAST-MODIFIED:20240409T220621Z
UID:10000930-1651734000-1651735800@www.servingjesus.org
SUMMARY:Communion with Sacraments
DESCRIPTION:Join us for Communion on the steps of the Chapel over looking the Vineyard. Meet in the parking lot at 7 am and we will go up together.
URL:https://www.servingjesus.org/event/communion-with-sacrament/2022-05-05/
LOCATION:Chapel\, 28740 Inwood\, Palo Cedro\, CA\, 96073\, United States
ATTACH;FMTTYPE=image/gif:https://www.servingjesus.org/wp-content/uploads/2024/04/chapel_steps_angel-1.gif
END:VEVENT
BEGIN:VEVENT
DTSTART;TZID=UTC:20220428T070000
DTEND;TZID=UTC:20220428T073000
DTSTAMP:20260422T174940
CREATED:20240409T220403Z
LAST-MODIFIED:20240409T220621Z
UID:10000929-1651129200-1651131000@www.servingjesus.org
SUMMARY:Communion with Sacraments
DESCRIPTION:Join us for Communion on the steps of the Chapel over looking the Vineyard. Meet in the parking lot at 7 am and we will go up together.
URL:https://www.servingjesus.org/event/communion-with-sacrament/2022-04-28/
LOCATION:Chapel\, 28740 Inwood\, Palo Cedro\, CA\, 96073\, United States
ATTACH;FMTTYPE=image/gif:https://www.servingjesus.org/wp-content/uploads/2024/04/chapel_steps_angel-1.gif
END:VEVENT
BEGIN:VEVENT
DTSTART;TZID=UTC:20220421T070000
DTEND;TZID=UTC:20220421T073000
DTSTAMP:20260422T174940
CREATED:20240409T220403Z
LAST-MODIFIED:20240409T220621Z
UID:10000928-1650524400-1650526200@www.servingjesus.org
SUMMARY:Communion with Sacraments
DESCRIPTION:Join us for Communion on the steps of the Chapel over looking the Vineyard. Meet in the parking lot at 7 am and we will go up together.
URL:https://www.servingjesus.org/event/communion-with-sacrament/2022-04-21/
LOCATION:Chapel\, 28740 Inwood\, Palo Cedro\, CA\, 96073\, United States
ATTACH;FMTTYPE=image/gif:https://www.servingjesus.org/wp-content/uploads/2024/04/chapel_steps_angel-1.gif
END:VEVENT
BEGIN:VEVENT
DTSTART;TZID=UTC:20220414T070000
DTEND;TZID=UTC:20220414T073000
DTSTAMP:20260422T174940
CREATED:20240409T220403Z
LAST-MODIFIED:20240409T220621Z
UID:10000927-1649919600-1649921400@www.servingjesus.org
SUMMARY:Communion with Sacraments
DESCRIPTION:Join us for Communion on the steps of the Chapel over looking the Vineyard. Meet in the parking lot at 7 am and we will go up together.
URL:https://www.servingjesus.org/event/communion-with-sacrament/2022-04-14/
LOCATION:Chapel\, 28740 Inwood\, Palo Cedro\, CA\, 96073\, United States
ATTACH;FMTTYPE=image/gif:https://www.servingjesus.org/wp-content/uploads/2024/04/chapel_steps_angel-1.gif
END:VEVENT
BEGIN:VEVENT
DTSTART;TZID=UTC:20220407T070000
DTEND;TZID=UTC:20220407T073000
DTSTAMP:20260422T174940
CREATED:20240409T220403Z
LAST-MODIFIED:20240409T220621Z
UID:10000926-1649314800-1649316600@www.servingjesus.org
SUMMARY:Communion with Sacraments
DESCRIPTION:Join us for Communion on the steps of the Chapel over looking the Vineyard. Meet in the parking lot at 7 am and we will go up together.
URL:https://www.servingjesus.org/event/communion-with-sacrament/2022-04-07/
LOCATION:Chapel\, 28740 Inwood\, Palo Cedro\, CA\, 96073\, United States
ATTACH;FMTTYPE=image/gif:https://www.servingjesus.org/wp-content/uploads/2024/04/chapel_steps_angel-1.gif
END:VEVENT
BEGIN:VEVENT
DTSTART;TZID=UTC:20220331T070000
DTEND;TZID=UTC:20220331T073000
DTSTAMP:20260422T174940
CREATED:20240409T220403Z
LAST-MODIFIED:20240409T220621Z
UID:10000925-1648710000-1648711800@www.servingjesus.org
SUMMARY:Communion with Sacraments
DESCRIPTION:Join us for Communion on the steps of the Chapel over looking the Vineyard. Meet in the parking lot at 7 am and we will go up together.
URL:https://www.servingjesus.org/event/communion-with-sacrament/2022-03-31/
LOCATION:Chapel\, 28740 Inwood\, Palo Cedro\, CA\, 96073\, United States
ATTACH;FMTTYPE=image/gif:https://www.servingjesus.org/wp-content/uploads/2024/04/chapel_steps_angel-1.gif
END:VEVENT
BEGIN:VEVENT
DTSTART;TZID=UTC:20220324T070000
DTEND;TZID=UTC:20220324T073000
DTSTAMP:20260422T174940
CREATED:20240409T220403Z
LAST-MODIFIED:20240409T220621Z
UID:10000924-1648105200-1648107000@www.servingjesus.org
SUMMARY:Communion with Sacraments
DESCRIPTION:Join us for Communion on the steps of the Chapel over looking the Vineyard. Meet in the parking lot at 7 am and we will go up together.
URL:https://www.servingjesus.org/event/communion-with-sacrament/2022-03-24/
LOCATION:Chapel\, 28740 Inwood\, Palo Cedro\, CA\, 96073\, United States
ATTACH;FMTTYPE=image/gif:https://www.servingjesus.org/wp-content/uploads/2024/04/chapel_steps_angel-1.gif
END:VEVENT
BEGIN:VEVENT
DTSTART;TZID=UTC:20220317T070000
DTEND;TZID=UTC:20220317T073000
DTSTAMP:20260422T174940
CREATED:20240409T220403Z
LAST-MODIFIED:20240409T220621Z
UID:10000923-1647500400-1647502200@www.servingjesus.org
SUMMARY:Communion with Sacraments
DESCRIPTION:Join us for Communion on the steps of the Chapel over looking the Vineyard. Meet in the parking lot at 7 am and we will go up together.
URL:https://www.servingjesus.org/event/communion-with-sacrament/2022-03-17/
LOCATION:Chapel\, 28740 Inwood\, Palo Cedro\, CA\, 96073\, United States
ATTACH;FMTTYPE=image/gif:https://www.servingjesus.org/wp-content/uploads/2024/04/chapel_steps_angel-1.gif
END:VEVENT
BEGIN:VEVENT
DTSTART;TZID=UTC:20220310T070000
DTEND;TZID=UTC:20220310T073000
DTSTAMP:20260422T174940
CREATED:20240409T220403Z
LAST-MODIFIED:20240409T220621Z
UID:10000922-1646895600-1646897400@www.servingjesus.org
SUMMARY:Communion with Sacraments
DESCRIPTION:Join us for Communion on the steps of the Chapel over looking the Vineyard. Meet in the parking lot at 7 am and we will go up together.
URL:https://www.servingjesus.org/event/communion-with-sacrament/2022-03-10/
LOCATION:Chapel\, 28740 Inwood\, Palo Cedro\, CA\, 96073\, United States
ATTACH;FMTTYPE=image/gif:https://www.servingjesus.org/wp-content/uploads/2024/04/chapel_steps_angel-1.gif
END:VEVENT
BEGIN:VEVENT
DTSTART;TZID=UTC:20220303T070000
DTEND;TZID=UTC:20220303T073000
DTSTAMP:20260422T174940
CREATED:20240409T220403Z
LAST-MODIFIED:20240409T220621Z
UID:10000921-1646290800-1646292600@www.servingjesus.org
SUMMARY:Communion with Sacraments
DESCRIPTION:Join us for Communion on the steps of the Chapel over looking the Vineyard. Meet in the parking lot at 7 am and we will go up together.
URL:https://www.servingjesus.org/event/communion-with-sacrament/2022-03-03/
LOCATION:Chapel\, 28740 Inwood\, Palo Cedro\, CA\, 96073\, United States
ATTACH;FMTTYPE=image/gif:https://www.servingjesus.org/wp-content/uploads/2024/04/chapel_steps_angel-1.gif
END:VEVENT
BEGIN:VEVENT
DTSTART;TZID=UTC:20220224T070000
DTEND;TZID=UTC:20220224T073000
DTSTAMP:20260422T174940
CREATED:20240409T220403Z
LAST-MODIFIED:20240409T220621Z
UID:10000920-1645686000-1645687800@www.servingjesus.org
SUMMARY:Communion with Sacraments
DESCRIPTION:Join us for Communion on the steps of the Chapel over looking the Vineyard. Meet in the parking lot at 7 am and we will go up together.
URL:https://www.servingjesus.org/event/communion-with-sacrament/2022-02-24/
LOCATION:Chapel\, 28740 Inwood\, Palo Cedro\, CA\, 96073\, United States
ATTACH;FMTTYPE=image/gif:https://www.servingjesus.org/wp-content/uploads/2024/04/chapel_steps_angel-1.gif
END:VEVENT
BEGIN:VEVENT
DTSTART;TZID=UTC:20220217T070000
DTEND;TZID=UTC:20220217T073000
DTSTAMP:20260422T174940
CREATED:20240409T220403Z
LAST-MODIFIED:20240409T220621Z
UID:10000919-1645081200-1645083000@www.servingjesus.org
SUMMARY:Communion with Sacraments
DESCRIPTION:Join us for Communion on the steps of the Chapel over looking the Vineyard. Meet in the parking lot at 7 am and we will go up together.
URL:https://www.servingjesus.org/event/communion-with-sacrament/2022-02-17/
LOCATION:Chapel\, 28740 Inwood\, Palo Cedro\, CA\, 96073\, United States
ATTACH;FMTTYPE=image/gif:https://www.servingjesus.org/wp-content/uploads/2024/04/chapel_steps_angel-1.gif
END:VEVENT
BEGIN:VEVENT
DTSTART;TZID=UTC:20220210T070000
DTEND;TZID=UTC:20220210T073000
DTSTAMP:20260422T174940
CREATED:20240409T220403Z
LAST-MODIFIED:20240409T220621Z
UID:10000918-1644476400-1644478200@www.servingjesus.org
SUMMARY:Communion with Sacraments
DESCRIPTION:Join us for Communion on the steps of the Chapel over looking the Vineyard. Meet in the parking lot at 7 am and we will go up together.
URL:https://www.servingjesus.org/event/communion-with-sacrament/2022-02-10/
LOCATION:Chapel\, 28740 Inwood\, Palo Cedro\, CA\, 96073\, United States
ATTACH;FMTTYPE=image/gif:https://www.servingjesus.org/wp-content/uploads/2024/04/chapel_steps_angel-1.gif
END:VEVENT
END:VCALENDAR