BEGIN:VCALENDAR
VERSION:2.0
PRODID:-//Lighthouse Worship Center - ECPv6.15.20//NONSGML v1.0//EN
CALSCALE:GREGORIAN
METHOD:PUBLISH
X-ORIGINAL-URL:https://www.servingjesus.org
X-WR-CALDESC:Events for Lighthouse Worship Center
REFRESH-INTERVAL;VALUE=DURATION:PT1H
X-Robots-Tag:noindex
X-PUBLISHED-TTL:PT1H
BEGIN:VTIMEZONE
TZID:UTC
BEGIN:STANDARD
TZOFFSETFROM:+0000
TZOFFSETTO:+0000
TZNAME:UTC
DTSTART:20210101T000000
END:STANDARD
END:VTIMEZONE
BEGIN:VEVENT
DTSTART;VALUE=DATE:20240316
DTEND;VALUE=DATE:20240317
DTSTAMP:20260422T090339
CREATED:20240409T214023Z
LAST-MODIFIED:20240409T214023Z
UID:10000787-1710547200-1710633599@www.servingjesus.org
SUMMARY:Stations of The Cross - Sign Up Today
DESCRIPTION:The Station of the Cross is a representation of Christ carrying the Cross to His Crucifixion\, and the devotions that commemorate the journey. The Stations are modified on the ranch the reason for which the pilgrim will understand. \nMeet in the parking lot through the main gates will check registration and go together up to station 1. Please call Matthew at 530-355-4938 to fill out registration form and to be place on list.
URL:https://www.servingjesus.org/event/stations-of-the-cross-sign-up-today-2/
LOCATION:Stations of the Cross\, 28740 Inwood\, Palo Cedro\, CA\, 96073\, United States
END:VEVENT
BEGIN:VEVENT
DTSTART;VALUE=DATE:20240217
DTEND;VALUE=DATE:20240218
DTSTAMP:20260422T090339
CREATED:20240409T214214Z
LAST-MODIFIED:20240409T214322Z
UID:10000788-1708128000-1708214399@www.servingjesus.org
SUMMARY:Stations of The Cross - Sign Up Today
DESCRIPTION:The Station of the Cross is a representation of Christ carrying the Cross to His Crucifixion\, and the devotions that commemorate the journey. The Stations are modified on the ranch the reason for which the pilgrim will understand. \nMeet in the parking lot through the main gates will check registration and go together up to station 1. Please call Matthew at 530-355-4938 to fill out registration form and to be place on list.
URL:https://www.servingjesus.org/event/stations-of-the-cross-sign-up-today-3/
LOCATION:Stations of the Cross\, 28740 Inwood\, Palo Cedro\, CA\, 96073\, United States
END:VEVENT
BEGIN:VEVENT
DTSTART;VALUE=DATE:20240113
DTEND;VALUE=DATE:20240114
DTSTAMP:20260422T090339
CREATED:20240409T214508Z
LAST-MODIFIED:20240409T214508Z
UID:10000789-1705104000-1705190399@www.servingjesus.org
SUMMARY:Stations of The Cross - Sign Up Today
DESCRIPTION:The Station of the Cross is a representation of Christ carrying the Cross to His Crucifixion\, and the devotions that commemorate the journey. The Stations are modified on the ranch the reason for which the pilgrim will understand. \nMeet in the parking lot through the main gates will check registration and go together up to station 1. Please call Matthew at 530-355-4938 to fill out registration form and to be place on list.
URL:https://www.servingjesus.org/event/stations-of-the-cross-sign-up-today-4/
LOCATION:Stations of the Cross\, 28740 Inwood\, Palo Cedro\, CA\, 96073\, United States
END:VEVENT
BEGIN:VEVENT
DTSTART;TZID=UTC:20231202T100000
DTEND;TZID=UTC:20231202T140000
DTSTAMP:20260422T090339
CREATED:20240409T214833Z
LAST-MODIFIED:20240409T214833Z
UID:10000813-1701511200-1701525600@www.servingjesus.org
SUMMARY:Walk The Stations of the Cross
DESCRIPTION:The Station of the Cross is a representation of Christ carrying the Cross to His Crucifixion\, and the devotions that commemorate the journey. The Stations are modified on the ranch the reason for which the pilgrim will understand. Meet in the parking lot through the main gates will check registration and go together up to station 1.
URL:https://www.servingjesus.org/event/walk-the-stations-of-the-cross/2023-12-02/
LOCATION:Stations of the Cross\, 28740 Inwood\, Palo Cedro\, CA\, 96073\, United States
END:VEVENT
BEGIN:VEVENT
DTSTART;TZID=UTC:20231104T100000
DTEND;TZID=UTC:20231104T140000
DTSTAMP:20260422T090339
CREATED:20240409T214833Z
LAST-MODIFIED:20240409T214833Z
UID:10000812-1699092000-1699106400@www.servingjesus.org
SUMMARY:Walk The Stations of the Cross
DESCRIPTION:The Station of the Cross is a representation of Christ carrying the Cross to His Crucifixion\, and the devotions that commemorate the journey. The Stations are modified on the ranch the reason for which the pilgrim will understand. Meet in the parking lot through the main gates will check registration and go together up to station 1.
URL:https://www.servingjesus.org/event/walk-the-stations-of-the-cross/2023-11-04/
LOCATION:Stations of the Cross\, 28740 Inwood\, Palo Cedro\, CA\, 96073\, United States
END:VEVENT
BEGIN:VEVENT
DTSTART;TZID=UTC:20231007T100000
DTEND;TZID=UTC:20231007T140000
DTSTAMP:20260422T090339
CREATED:20240409T214833Z
LAST-MODIFIED:20240409T214833Z
UID:10000811-1696672800-1696687200@www.servingjesus.org
SUMMARY:Walk The Stations of the Cross
DESCRIPTION:The Station of the Cross is a representation of Christ carrying the Cross to His Crucifixion\, and the devotions that commemorate the journey. The Stations are modified on the ranch the reason for which the pilgrim will understand. Meet in the parking lot through the main gates will check registration and go together up to station 1.
URL:https://www.servingjesus.org/event/walk-the-stations-of-the-cross/2023-10-07/
LOCATION:Stations of the Cross\, 28740 Inwood\, Palo Cedro\, CA\, 96073\, United States
END:VEVENT
BEGIN:VEVENT
DTSTART;TZID=UTC:20230902T100000
DTEND;TZID=UTC:20230902T140000
DTSTAMP:20260422T090339
CREATED:20240409T214833Z
LAST-MODIFIED:20240409T214833Z
UID:10000810-1693648800-1693663200@www.servingjesus.org
SUMMARY:Walk The Stations of the Cross
DESCRIPTION:The Station of the Cross is a representation of Christ carrying the Cross to His Crucifixion\, and the devotions that commemorate the journey. The Stations are modified on the ranch the reason for which the pilgrim will understand. Meet in the parking lot through the main gates will check registration and go together up to station 1.
URL:https://www.servingjesus.org/event/walk-the-stations-of-the-cross/2023-09-02/
LOCATION:Stations of the Cross\, 28740 Inwood\, Palo Cedro\, CA\, 96073\, United States
END:VEVENT
BEGIN:VEVENT
DTSTART;TZID=UTC:20230805T100000
DTEND;TZID=UTC:20230805T140000
DTSTAMP:20260422T090339
CREATED:20240409T214833Z
LAST-MODIFIED:20240409T214833Z
UID:10000809-1691229600-1691244000@www.servingjesus.org
SUMMARY:Walk The Stations of the Cross
DESCRIPTION:The Station of the Cross is a representation of Christ carrying the Cross to His Crucifixion\, and the devotions that commemorate the journey. The Stations are modified on the ranch the reason for which the pilgrim will understand. Meet in the parking lot through the main gates will check registration and go together up to station 1.
URL:https://www.servingjesus.org/event/walk-the-stations-of-the-cross/2023-08-05/
LOCATION:Stations of the Cross\, 28740 Inwood\, Palo Cedro\, CA\, 96073\, United States
END:VEVENT
BEGIN:VEVENT
DTSTART;TZID=UTC:20230701T100000
DTEND;TZID=UTC:20230701T140000
DTSTAMP:20260422T090339
CREATED:20240409T214833Z
LAST-MODIFIED:20240409T214833Z
UID:10000808-1688205600-1688220000@www.servingjesus.org
SUMMARY:Walk The Stations of the Cross
DESCRIPTION:The Station of the Cross is a representation of Christ carrying the Cross to His Crucifixion\, and the devotions that commemorate the journey. The Stations are modified on the ranch the reason for which the pilgrim will understand. Meet in the parking lot through the main gates will check registration and go together up to station 1.
URL:https://www.servingjesus.org/event/walk-the-stations-of-the-cross/2023-07-01/
LOCATION:Stations of the Cross\, 28740 Inwood\, Palo Cedro\, CA\, 96073\, United States
END:VEVENT
BEGIN:VEVENT
DTSTART;TZID=UTC:20230603T100000
DTEND;TZID=UTC:20230603T140000
DTSTAMP:20260422T090339
CREATED:20240409T214833Z
LAST-MODIFIED:20240409T214833Z
UID:10000807-1685786400-1685800800@www.servingjesus.org
SUMMARY:Walk The Stations of the Cross
DESCRIPTION:The Station of the Cross is a representation of Christ carrying the Cross to His Crucifixion\, and the devotions that commemorate the journey. The Stations are modified on the ranch the reason for which the pilgrim will understand. Meet in the parking lot through the main gates will check registration and go together up to station 1.
URL:https://www.servingjesus.org/event/walk-the-stations-of-the-cross/2023-06-03/
LOCATION:Stations of the Cross\, 28740 Inwood\, Palo Cedro\, CA\, 96073\, United States
END:VEVENT
BEGIN:VEVENT
DTSTART;TZID=UTC:20230506T100000
DTEND;TZID=UTC:20230506T140000
DTSTAMP:20260422T090339
CREATED:20240409T214833Z
LAST-MODIFIED:20240409T214833Z
UID:10000806-1683367200-1683381600@www.servingjesus.org
SUMMARY:Walk The Stations of the Cross
DESCRIPTION:The Station of the Cross is a representation of Christ carrying the Cross to His Crucifixion\, and the devotions that commemorate the journey. The Stations are modified on the ranch the reason for which the pilgrim will understand. Meet in the parking lot through the main gates will check registration and go together up to station 1.
URL:https://www.servingjesus.org/event/walk-the-stations-of-the-cross/2023-05-06/
LOCATION:Stations of the Cross\, 28740 Inwood\, Palo Cedro\, CA\, 96073\, United States
END:VEVENT
BEGIN:VEVENT
DTSTART;TZID=UTC:20230401T100000
DTEND;TZID=UTC:20230401T140000
DTSTAMP:20260422T090339
CREATED:20240409T214833Z
LAST-MODIFIED:20240409T214833Z
UID:10000805-1680343200-1680357600@www.servingjesus.org
SUMMARY:Walk The Stations of the Cross
DESCRIPTION:The Station of the Cross is a representation of Christ carrying the Cross to His Crucifixion\, and the devotions that commemorate the journey. The Stations are modified on the ranch the reason for which the pilgrim will understand. Meet in the parking lot through the main gates will check registration and go together up to station 1.
URL:https://www.servingjesus.org/event/walk-the-stations-of-the-cross/2023-04-01/
LOCATION:Stations of the Cross\, 28740 Inwood\, Palo Cedro\, CA\, 96073\, United States
END:VEVENT
BEGIN:VEVENT
DTSTART;TZID=UTC:20230304T100000
DTEND;TZID=UTC:20230304T140000
DTSTAMP:20260422T090339
CREATED:20240409T214833Z
LAST-MODIFIED:20240409T214833Z
UID:10000804-1677924000-1677938400@www.servingjesus.org
SUMMARY:Walk The Stations of the Cross
DESCRIPTION:The Station of the Cross is a representation of Christ carrying the Cross to His Crucifixion\, and the devotions that commemorate the journey. The Stations are modified on the ranch the reason for which the pilgrim will understand. Meet in the parking lot through the main gates will check registration and go together up to station 1.
URL:https://www.servingjesus.org/event/walk-the-stations-of-the-cross/2023-03-04/
LOCATION:Stations of the Cross\, 28740 Inwood\, Palo Cedro\, CA\, 96073\, United States
END:VEVENT
BEGIN:VEVENT
DTSTART;TZID=UTC:20230204T100000
DTEND;TZID=UTC:20230204T140000
DTSTAMP:20260422T090339
CREATED:20240409T214833Z
LAST-MODIFIED:20240409T214833Z
UID:10000803-1675504800-1675519200@www.servingjesus.org
SUMMARY:Walk The Stations of the Cross
DESCRIPTION:The Station of the Cross is a representation of Christ carrying the Cross to His Crucifixion\, and the devotions that commemorate the journey. The Stations are modified on the ranch the reason for which the pilgrim will understand. Meet in the parking lot through the main gates will check registration and go together up to station 1.
URL:https://www.servingjesus.org/event/walk-the-stations-of-the-cross/2023-02-04/
LOCATION:Stations of the Cross\, 28740 Inwood\, Palo Cedro\, CA\, 96073\, United States
END:VEVENT
BEGIN:VEVENT
DTSTART;TZID=UTC:20230107T100000
DTEND;TZID=UTC:20230107T140000
DTSTAMP:20260422T090339
CREATED:20240409T214833Z
LAST-MODIFIED:20240409T214833Z
UID:10000802-1673085600-1673100000@www.servingjesus.org
SUMMARY:Walk The Stations of the Cross
DESCRIPTION:The Station of the Cross is a representation of Christ carrying the Cross to His Crucifixion\, and the devotions that commemorate the journey. The Stations are modified on the ranch the reason for which the pilgrim will understand. Meet in the parking lot through the main gates will check registration and go together up to station 1.
URL:https://www.servingjesus.org/event/walk-the-stations-of-the-cross/2023-01-07/
LOCATION:Stations of the Cross\, 28740 Inwood\, Palo Cedro\, CA\, 96073\, United States
END:VEVENT
BEGIN:VEVENT
DTSTART;TZID=UTC:20221203T100000
DTEND;TZID=UTC:20221203T140000
DTSTAMP:20260422T090339
CREATED:20240409T214833Z
LAST-MODIFIED:20240409T214833Z
UID:10000801-1670061600-1670076000@www.servingjesus.org
SUMMARY:Walk The Stations of the Cross
DESCRIPTION:The Station of the Cross is a representation of Christ carrying the Cross to His Crucifixion\, and the devotions that commemorate the journey. The Stations are modified on the ranch the reason for which the pilgrim will understand. Meet in the parking lot through the main gates will check registration and go together up to station 1.
URL:https://www.servingjesus.org/event/walk-the-stations-of-the-cross/2022-12-03/
LOCATION:Stations of the Cross\, 28740 Inwood\, Palo Cedro\, CA\, 96073\, United States
END:VEVENT
BEGIN:VEVENT
DTSTART;TZID=UTC:20221105T100000
DTEND;TZID=UTC:20221105T140000
DTSTAMP:20260422T090339
CREATED:20240409T214833Z
LAST-MODIFIED:20240409T214833Z
UID:10000800-1667642400-1667656800@www.servingjesus.org
SUMMARY:Walk The Stations of the Cross
DESCRIPTION:The Station of the Cross is a representation of Christ carrying the Cross to His Crucifixion\, and the devotions that commemorate the journey. The Stations are modified on the ranch the reason for which the pilgrim will understand. Meet in the parking lot through the main gates will check registration and go together up to station 1.
URL:https://www.servingjesus.org/event/walk-the-stations-of-the-cross/2022-11-05/
LOCATION:Stations of the Cross\, 28740 Inwood\, Palo Cedro\, CA\, 96073\, United States
END:VEVENT
BEGIN:VEVENT
DTSTART;TZID=UTC:20221001T100000
DTEND;TZID=UTC:20221001T140000
DTSTAMP:20260422T090339
CREATED:20240409T214833Z
LAST-MODIFIED:20240409T214833Z
UID:10000799-1664618400-1664632800@www.servingjesus.org
SUMMARY:Walk The Stations of the Cross
DESCRIPTION:The Station of the Cross is a representation of Christ carrying the Cross to His Crucifixion\, and the devotions that commemorate the journey. The Stations are modified on the ranch the reason for which the pilgrim will understand. Meet in the parking lot through the main gates will check registration and go together up to station 1.
URL:https://www.servingjesus.org/event/walk-the-stations-of-the-cross/2022-10-01/
LOCATION:Stations of the Cross\, 28740 Inwood\, Palo Cedro\, CA\, 96073\, United States
END:VEVENT
BEGIN:VEVENT
DTSTART;TZID=UTC:20220903T100000
DTEND;TZID=UTC:20220903T140000
DTSTAMP:20260422T090339
CREATED:20240409T214833Z
LAST-MODIFIED:20240409T214833Z
UID:10000798-1662199200-1662213600@www.servingjesus.org
SUMMARY:Walk The Stations of the Cross
DESCRIPTION:The Station of the Cross is a representation of Christ carrying the Cross to His Crucifixion\, and the devotions that commemorate the journey. The Stations are modified on the ranch the reason for which the pilgrim will understand. Meet in the parking lot through the main gates will check registration and go together up to station 1.
URL:https://www.servingjesus.org/event/walk-the-stations-of-the-cross/2022-09-03/
LOCATION:Stations of the Cross\, 28740 Inwood\, Palo Cedro\, CA\, 96073\, United States
END:VEVENT
BEGIN:VEVENT
DTSTART;TZID=UTC:20220806T100000
DTEND;TZID=UTC:20220806T140000
DTSTAMP:20260422T090339
CREATED:20240409T214833Z
LAST-MODIFIED:20240409T214833Z
UID:10000797-1659780000-1659794400@www.servingjesus.org
SUMMARY:Walk The Stations of the Cross
DESCRIPTION:The Station of the Cross is a representation of Christ carrying the Cross to His Crucifixion\, and the devotions that commemorate the journey. The Stations are modified on the ranch the reason for which the pilgrim will understand. Meet in the parking lot through the main gates will check registration and go together up to station 1.
URL:https://www.servingjesus.org/event/walk-the-stations-of-the-cross/2022-08-06/
LOCATION:Stations of the Cross\, 28740 Inwood\, Palo Cedro\, CA\, 96073\, United States
END:VEVENT
BEGIN:VEVENT
DTSTART;TZID=UTC:20220702T100000
DTEND;TZID=UTC:20220702T140000
DTSTAMP:20260422T090339
CREATED:20240409T214833Z
LAST-MODIFIED:20240409T214833Z
UID:10000796-1656756000-1656770400@www.servingjesus.org
SUMMARY:Walk The Stations of the Cross
DESCRIPTION:The Station of the Cross is a representation of Christ carrying the Cross to His Crucifixion\, and the devotions that commemorate the journey. The Stations are modified on the ranch the reason for which the pilgrim will understand. Meet in the parking lot through the main gates will check registration and go together up to station 1.
URL:https://www.servingjesus.org/event/walk-the-stations-of-the-cross/2022-07-02/
LOCATION:Stations of the Cross\, 28740 Inwood\, Palo Cedro\, CA\, 96073\, United States
END:VEVENT
BEGIN:VEVENT
DTSTART;TZID=UTC:20220604T100000
DTEND;TZID=UTC:20220604T140000
DTSTAMP:20260422T090339
CREATED:20240409T214833Z
LAST-MODIFIED:20240409T214833Z
UID:10000795-1654336800-1654351200@www.servingjesus.org
SUMMARY:Walk The Stations of the Cross
DESCRIPTION:The Station of the Cross is a representation of Christ carrying the Cross to His Crucifixion\, and the devotions that commemorate the journey. The Stations are modified on the ranch the reason for which the pilgrim will understand. Meet in the parking lot through the main gates will check registration and go together up to station 1.
URL:https://www.servingjesus.org/event/walk-the-stations-of-the-cross/2022-06-04/
LOCATION:Stations of the Cross\, 28740 Inwood\, Palo Cedro\, CA\, 96073\, United States
END:VEVENT
BEGIN:VEVENT
DTSTART;TZID=UTC:20220507T100000
DTEND;TZID=UTC:20220507T140000
DTSTAMP:20260422T090339
CREATED:20240409T214833Z
LAST-MODIFIED:20240409T214833Z
UID:10000794-1651917600-1651932000@www.servingjesus.org
SUMMARY:Walk The Stations of the Cross
DESCRIPTION:The Station of the Cross is a representation of Christ carrying the Cross to His Crucifixion\, and the devotions that commemorate the journey. The Stations are modified on the ranch the reason for which the pilgrim will understand. Meet in the parking lot through the main gates will check registration and go together up to station 1.
URL:https://www.servingjesus.org/event/walk-the-stations-of-the-cross/2022-05-07/
LOCATION:Stations of the Cross\, 28740 Inwood\, Palo Cedro\, CA\, 96073\, United States
END:VEVENT
BEGIN:VEVENT
DTSTART;TZID=UTC:20220402T100000
DTEND;TZID=UTC:20220402T140000
DTSTAMP:20260422T090339
CREATED:20240409T214833Z
LAST-MODIFIED:20240409T214833Z
UID:10000793-1648893600-1648908000@www.servingjesus.org
SUMMARY:Walk The Stations of the Cross
DESCRIPTION:The Station of the Cross is a representation of Christ carrying the Cross to His Crucifixion\, and the devotions that commemorate the journey. The Stations are modified on the ranch the reason for which the pilgrim will understand. Meet in the parking lot through the main gates will check registration and go together up to station 1.
URL:https://www.servingjesus.org/event/walk-the-stations-of-the-cross/2022-04-02/
LOCATION:Stations of the Cross\, 28740 Inwood\, Palo Cedro\, CA\, 96073\, United States
END:VEVENT
BEGIN:VEVENT
DTSTART;TZID=UTC:20220305T100000
DTEND;TZID=UTC:20220305T140000
DTSTAMP:20260422T090339
CREATED:20240409T214833Z
LAST-MODIFIED:20240409T214833Z
UID:10000792-1646474400-1646488800@www.servingjesus.org
SUMMARY:Walk The Stations of the Cross
DESCRIPTION:The Station of the Cross is a representation of Christ carrying the Cross to His Crucifixion\, and the devotions that commemorate the journey. The Stations are modified on the ranch the reason for which the pilgrim will understand. Meet in the parking lot through the main gates will check registration and go together up to station 1.
URL:https://www.servingjesus.org/event/walk-the-stations-of-the-cross/2022-03-05/
LOCATION:Stations of the Cross\, 28740 Inwood\, Palo Cedro\, CA\, 96073\, United States
END:VEVENT
BEGIN:VEVENT
DTSTART;TZID=UTC:20220205T100000
DTEND;TZID=UTC:20220205T140000
DTSTAMP:20260422T090339
CREATED:20240409T214833Z
LAST-MODIFIED:20240409T214833Z
UID:10000791-1644055200-1644069600@www.servingjesus.org
SUMMARY:Walk The Stations of the Cross
DESCRIPTION:The Station of the Cross is a representation of Christ carrying the Cross to His Crucifixion\, and the devotions that commemorate the journey. The Stations are modified on the ranch the reason for which the pilgrim will understand. Meet in the parking lot through the main gates will check registration and go together up to station 1.
URL:https://www.servingjesus.org/event/walk-the-stations-of-the-cross/2022-02-05/
LOCATION:Stations of the Cross\, 28740 Inwood\, Palo Cedro\, CA\, 96073\, United States
END:VEVENT
BEGIN:VEVENT
DTSTART;TZID=UTC:20220101T100000
DTEND;TZID=UTC:20220101T140000
DTSTAMP:20260422T090339
CREATED:20240409T214833Z
LAST-MODIFIED:20240409T214833Z
UID:10000790-1641031200-1641045600@www.servingjesus.org
SUMMARY:Walk The Stations of the Cross
DESCRIPTION:The Station of the Cross is a representation of Christ carrying the Cross to His Crucifixion\, and the devotions that commemorate the journey. The Stations are modified on the ranch the reason for which the pilgrim will understand. Meet in the parking lot through the main gates will check registration and go together up to station 1.
URL:https://www.servingjesus.org/event/walk-the-stations-of-the-cross/2022-01-01/
LOCATION:Stations of the Cross\, 28740 Inwood\, Palo Cedro\, CA\, 96073\, United States
END:VEVENT
END:VCALENDAR